BEGIN:VCALENDAR
VERSION:2.0
PRODID:spatie/icalendar-generator
BEGIN:VTIMEZONE
TZID:UTC
BEGIN:STANDARD
DTSTART:20250726T212131
TZOFFSETFROM:+0000
TZOFFSETTO:+0000
END:STANDARD
END:VTIMEZONE
BEGIN:VEVENT
UID:69e93bdbdb691
DTSTAMP:20260422T212131Z
DTSTART:20260512T180000Z
DTEND:20260512T190000Z
SUMMARY:Rooftop Workout
DESCRIPTION:Outdoor-Workout mit Blick über die Münchner Skyline: Wir lade
 n euch zu einem kostenlosen Sport-Programm auf unserem Dach ein. Bei früh
 lingshafter Sundowner-Atmosphäre könnt ihr euch mit unserem Sport-Coach 
 Magnus so richtig auspowern.
LOCATION:Macherei München\, Treffpunkt: Quartiersplatz
END:VEVENT
END:VCALENDAR